BEGIN:VCALENDAR
VERSION:2.0
PRODID:-//Crestway Community Centre - ECPv6.2.0.1//NONSGML v1.0//EN
CALSCALE:GREGORIAN
METHOD:PUBLISH
X-ORIGINAL-URL:http://crestwaycommunitycentre.co.uk
X-WR-CALDESC:Events for Crestway Community Centre
REFRESH-INTERVAL;VALUE=DURATION:PT1H
X-Robots-Tag:noindex
X-PUBLISHED-TTL:PT1H
BEGIN:VTIMEZONE
TZID:Europe/London
BEGIN:DAYLIGHT
TZOFFSETFROM:+0000
TZOFFSETTO:+0100
TZNAME:BST
DTSTART:20200329T010000
END:DAYLIGHT
BEGIN:STANDARD
TZOFFSETFROM:+0100
TZOFFSETTO:+0000
TZNAME:GMT
DTSTART:20201025T010000
END:STANDARD
END:VTIMEZONE
BEGIN:VEVENT
DTSTART;TZID=Europe/London:20200410T110000
DTEND;TZID=Europe/London:20200410T130000
DTSTAMP:20260420T063911
CREATED:20200229T124154Z
LAST-MODIFIED:20200229T124154Z
UID:1482-1586516400-1586523600@crestwaycommunitycentre.co.uk
SUMMARY:Easter Eggstravaganza
DESCRIPTION:
URL:http://crestwaycommunitycentre.co.uk/event/easter-eggstravaganza/
LOCATION:Crestway Community Centre\, Stonecross Lea\, Chatham\, Kent\, ME5 0BL\, United Kingdom
CATEGORIES:All Events
END:VEVENT
END:VCALENDAR